BEGIN:VCALENDAR
VERSION:2.0
PRODID:-//wp-events-plugin.com//6.4.4//EN
TZID:America/Los_Angeles
X-WR-TIMEZONE:America/Los_Angeles
BEGIN:VEVENT
UID:2636@epilepsynorcal.org
DTSTART;TZID=America/Los_Angeles:20260428T100000
DTEND;TZID=America/Los_Angeles:20260428T110000
DTSTAMP:20260113T025855Z
URL:https://epilepsynorcal.org/event/topic-sub-group-writing-2-2026-04-28/
SUMMARY:Topic Sub-Group: Writing
DESCRIPTION:\n\n\n\nIn an ongoing group\, patient navigator Yarrow Rubin wi
 ll host online zoom sessions with writing prompts for adults with any leve
 l of writing experience.\nWhen: Second and Fourth Tuesday of Each Month at
  10am\n\n\n\n\n\n\n\n
ATTACH;FMTTYPE=image/jpeg:https://epilepsynorcal.org/wp-content/uploads/20
 24/01/Writing.jpg
CATEGORIES:Support Group
END:VEVENT
BEGIN:VTIMEZONE
TZID:America/Los_Angeles
X-LIC-LOCATION:America/Los_Angeles
BEGIN:DAYLIGHT
DTSTART:20260308T030000
TZOFFSETFROM:-0800
TZOFFSETTO:-0700
TZNAME:PDT
END:DAYLIGHT
END:VTIMEZONE
END:VCALENDAR